BEGIN:VCALENDAR
PRODID:-//eluceo/ical//2.0/EN
VERSION:2.0
CALSCALE:GREGORIAN
BEGIN:VEVENT
UID:bad4261adc8cfd439730137ca9207732
DTSTAMP:20260423T053230Z
SUMMARY:JFNH Virtual Community Chanukah Baking Program
DESCRIPTION:Jewish Federation of New Hampshire\nCommunity Calendar\nhttps:/
 /jewishnh.org/community-calendar/virtual-community-chanukah-baking-program
 \n\nJoin NH Shlicha Avia Sagron as you make Sfinge (a Moroccan doughnut) a
 nd light the menorah candles together on Zoom. All the ingredients you nee
 d will be delivered to your door the week of the program.\n\nSpace is limi
 ted Pre-registration is required by using our google form or calling the J
 FNH office at 603-627-7679
DTSTART;TZID=America/New_York:20201215T190000
DTEND;TZID=America/New_York:20201215T210000
END:VEVENT
END:VCALENDAR
