BEGIN:VCALENDAR
PRODID:-//eluceo/ical//2.0/EN
VERSION:2.0
CALSCALE:GREGORIAN
BEGIN:VEVENT
UID:08306a52c1c3785c07ec1bde09d73737
DTSTAMP:20260422T135746Z
SUMMARY:Virtual Info Session with Alexander Muss High School in Israel
DESCRIPTION:Jewish Federation of New Hampshire\nCommunity Calendar\nhttps:/
 /jewishnh.org/community-calendar/virtual-info-session-with-alexander-muss-
 high-school-in-israel\n\nThanks to the generosity of the Palestrant family
 \, high school students from New Hampshire are eligible to apply for a gen
 erous scholarship to attend the Jewish National Fund – USA’s Alexander
  Muss High School in Israel.\n\nPlease Join Us For A Virtual Information S
 ession with Alexander Muss High School in Israel\n\nLearn how our transfor
 mative Israel programs can enrich your teenager’s high school experience
  and enhance their college applications\, making them stand out from the c
 rowd....
DTSTART;TZID=America/New_York:20230515T200000
DTEND;TZID=America/New_York:20230515T210000
END:VEVENT
END:VCALENDAR
