BEGIN:VCALENDAR
PRODID:-//eluceo/ical//2.0/EN
VERSION:2.0
CALSCALE:GREGORIAN
BEGIN:VEVENT
UID:26b3069aef85a7f0fc3ec8e222e31fb8
DTSTAMP:20260423T073833Z
SUMMARY:Virtual Israeli Getaway
DESCRIPTION:Jewish Federation of New Hampshire\nCommunity Calendar\nhttps:/
 /jewishnh.org/community-calendar/virtual-israeli-getaway\n\nCan’t get to
  Israel? Let Israel come to you!\n\nJewish National Fund’s Virtual Trave
 l & Tours and\n\nThe Jewish Federation of New Hampshire Presents\n\n \n\n
 WINTER GETAWAY VIRTUAL TOUR OF ISRAEL\n\nJanuary 4 - 8\, 2021\n\n \n\nMon
 day – Thursday\n\n4:00 – 5:00 pm ET Virtual Tour\n\n5:15 – 6:00 pm E
 T Virtual Discussion\n\nFriday 2:00 – 3:00 pm ET Pre-Shabbat Experience\
 n\n \n\nRegister www.jnf.org/nhvirtualtour\n\nYou will receive your logi
 n information upon registering.\n\n \n...
DTSTART;TZID=America/New_York:20210104T160000
DTEND;TZID=America/New_York:20210108T180000
END:VEVENT
END:VCALENDAR
