BEGIN:VCALENDAR
PRODID:-//eluceo/ical//2.0/EN
VERSION:2.0
CALSCALE:GREGORIAN
BEGIN:VEVENT
UID:6f6e8b1a61a372d1cb28aa370d498a74
DTSTAMP:20260423T095240Z
SUMMARY:Virtual Purim Israeli  Whiskey Tasting
DESCRIPTION:Jewish Federation of New Hampshire\nCommunity Calendar\nhttps:/
 /jewishnh.org/community-calendar/virtual-purim-whisky-tasting\n\nJoin New 
 Hampshire Shlicha Avia Sagron as she welcomes Talia Garber who will lead u
 s on a journey from "Scotland to the Holy-Land" . An evening of "spirited 
 discussion as you sample Israeli whisky and learn their history.\n\n21+ e
 vent\n\n30 participant limit\n\n$18/person\n\nWhiskey kits will be delive
 red ahead of the program.and Zoom link will be sent after registration.
DTSTART;TZID=America/New_York:20210228T193000
DTEND;TZID=America/New_York:20210228T210000
END:VEVENT
END:VCALENDAR
