BEGIN:VCALENDAR
PRODID:-//eluceo/ical//2.0/EN
VERSION:2.0
CALSCALE:GREGORIAN
BEGIN:VEVENT
UID:10db1af8894479766a4792392019689a
DTSTAMP:20260422T100045Z
SUMMARY:Virtual Tour of Israel with Ramah Israel
DESCRIPTION:Jewish Federation of New Hampshire\nCommunity Calendar\nhttps:/
 /jewishnh.org/community-calendar/virtual-tour-of-israel-with-ramah-israel-
 1611004202\n\nExperience Tu B'shvat a different way with a unique tour wit
 h Ramah Israel's top guide\, Betsalel Steinhart.\nThe tour focuses on look
 ing at Israel through the lens of the seven species and makes use of clips
 \, pictures\, music and Google Earth to virtually tour Israel.\n\nBetsalel
  will be available to answer questions\, and is happy to respond to any em
 ails with questions after the tour is over.\n\nNo cost!\n\nRegister at htt
 ps://www.tbanashua.org/event/Ramah_Virtual_Tour
DTSTART;TZID=America/New_York:20210124T123000
DTEND;TZID=America/New_York:20210124T133000
END:VEVENT
END:VCALENDAR
