BEGIN:VCALENDAR
PRODID:-//eluceo/ical//2.0/EN
VERSION:2.0
CALSCALE:GREGORIAN
BEGIN:VEVENT
UID:723fc543de73f0a5b1199ee114e81744
DTSTAMP:20260424T040220Z
SUMMARY:VT/NH Scout Shabbat 2023
DESCRIPTION:Jewish Federation of New Hampshire\nCommunity Calendar\nhttps:/
 /jewishnh.org/community-calendar/vtnh-scout-shabbat-2023\n\nOnce again\, T
 emple Emanu-El in Haverhill\, Massachusetts has offered to host Scout Shab
 bat on Friday\, February 17th\, 2023.  I would appreciate your assistance
  publicizing this event.  A handout with all of the information is attach
 ed.  The Temple is located 2 miles south of the New Hampshire / Massachus
 etts border\, just off Route 495.  This Scout Shabbat service will be bot
 h in person and via Zoom allowing Scouts to participate remotely if desire
 d.\n\nScout Shabbat offers an opportunity fo...
DTSTART;TZID=America/New_York:20230217T000000
DTEND;TZID=America/New_York:20230218T000000
END:VEVENT
END:VCALENDAR
