BEGIN:VCALENDAR
PRODID:-//eluceo/ical//2.0/EN
VERSION:2.0
CALSCALE:GREGORIAN
BEGIN:VEVENT
UID:38852e6a38b588b61d3cb0099540f912
DTSTAMP:20260423T071452Z
SUMMARY:Walk The Land - A Community Yom Ha'atzmaut Program
DESCRIPTION:Jewish Federation of New Hampshire\nCommunity Calendar\nhttps:/
 /jewishnh.org/community-calendar/walk-the-land-a-community-yom-haatzmaut-p
 rogram\n\nJoin the Jewish Federation of New Hampshire and synagogues from 
 around NH to celebrate Israel's 75th birthday!\n\nTravel around Israel and
  learn more about the country through projects\, activities and more!\n\nP
 rogramming\, activities and fun for all ages!
DTSTART;TZID=America/New_York:20230521T140000
DTEND;TZID=America/New_York:20230521T160000
END:VEVENT
END:VCALENDAR
