BEGIN:VCALENDAR
PRODID:-//eluceo/ical//2.0/EN
VERSION:2.0
CALSCALE:GREGORIAN
BEGIN:VEVENT
UID:46c566e6372917cbd68a960b716a8389
DTSTAMP:20260424T025249Z
SUMMARY:“Was Jesus as a Jew?”
DESCRIPTION:Jewish Federation of New Hampshire\nCommunity Calendar\nhttps:/
 /jewishnh.org/community-calendar/was-jesus-as-a-jew-1574728615\n\nRabbi Pe
 ter Levy and the Reverend Raymond Bonin will discuss this question. Jesus 
 has a Jewish mother. What Jesus said\, and what you will find in the Gospe
 l is not new.
DTSTART;TZID=America/New_York:20200402T190000
DTEND;TZID=America/New_York:20200402T203000
END:VEVENT
END:VCALENDAR
