BEGIN:VCALENDAR
PRODID:-//eluceo/ical//2.0/EN
VERSION:2.0
CALSCALE:GREGORIAN
BEGIN:VEVENT
UID:135018360e4eda603fda4c131f5205c7
DTSTAMP:20260423T034751Z
SUMMARY:Ways to Maximize Your Health
DESCRIPTION:Jewish Federation of New Hampshire\nCommunity Calendar\nhttps:/
 /jewishnh.org/community-calendar/ways-to-maximize-your-health-1671204724\n
 \nTemple Israel Portsmouth's Tikkun Olam committee is excited to invite yo
 u to a Zoom presentation by congregant Dr. Karl Singer.\n\nSince 1968\, Dr
 . Singer\, a noted family physician and geriatrician\, has explored multip
 le aspects of medicine\, holding such varied roles as the General Medical 
 Officer and Director of the Indian Health Service in Chinle AZ\, to the Pr
 esident and Medical Director of Exeter Clinic. Currently\, he is Medical D
 irector and Attending Physician at the Rockingham County Nurs...
DTSTART;TZID=America/New_York:20230118T110000
DTEND;TZID=America/New_York:20230118T120000
END:VEVENT
END:VCALENDAR
