BEGIN:VCALENDAR
PRODID:-//eluceo/ical//2.0/EN
VERSION:2.0
CALSCALE:GREGORIAN
BEGIN:VEVENT
UID:7ca12fec39551d7ec34738917ec2f956
DTSTAMP:20260422T221125Z
SUMMARY:We Care Benefit Concert
DESCRIPTION:Jewish Federation of New Hampshire\nCommunity Calendar\nhttps:/
 /jewishnh.org/community-calendar/we-care-benefit-concert-1665348902\n\nInt
 roduction: The Chicago Experience pays tribute to the iconic rock band Chi
 cago by featuring their music from 1968-1978.   Return to the times and ev
 ents that shaped the “Chicago Transit Authority” the original name of 
 the group that became simply known as Chicago. “Introduction” is the t
 itle of the first song of the first album\, and the beginning of a musical
  legacy that spans five decades.  This tribute band was born of a deep adm
 iration and respect for Chicago's artists and...
DTSTART;TZID=America/New_York:20221029T193000
DTEND;TZID=America/New_York:20221029T213000
END:VEVENT
END:VCALENDAR
