BEGIN:VCALENDAR
PRODID:-//eluceo/ical//2.0/EN
VERSION:2.0
CALSCALE:GREGORIAN
BEGIN:VEVENT
UID:270d57159f66fb666cbf5c67cf86a2d2
DTSTAMP:20260423T073139Z
SUMMARY:We Care Concert presented by Temple B'nai Israel
DESCRIPTION:Jewish Federation of New Hampshire\nCommunity Calendar\nhttps:/
 /jewishnh.org/community-calendar/we-care-concert-presented-by-temple-bnai-
 israel-1679855137\n\nMichelle Brooks-Thompson is a national award-winning 
 Independent Recording Artist and performer from Springfield\, Massachusett
 s.  She is known for her appearance as a finalist on the hit NBC TV show\,
  The Voice.  Since competing on The Voice\, Michelle’s versatile and phe
 nomenal singing ability has privileged her to grace a multitude of diverse
  musical platforms across the country.  She has become known by all as a d
 ynamic powerhouse vocalist!  As quoted by Maroon 5’s frontman and NBC’
 s...
DTSTART;TZID=America/New_York:20230527T193000
DTEND;TZID=America/New_York:20230527T213000
END:VEVENT
END:VCALENDAR
