BEGIN:VCALENDAR
PRODID:-//eluceo/ical//2.0/EN
VERSION:2.0
CALSCALE:GREGORIAN
BEGIN:VEVENT
UID:91fa7b2dc9e826dd8ddcc97e176ebf27
DTSTAMP:20260422T210345Z
SUMMARY:We Care of TBI Presents Five O'Clock Shadow in Concert
DESCRIPTION:Jewish Federation of New Hampshire\nCommunity Calendar\nhttps:/
 /jewishnh.org/community-calendar/we-care-of-tbi-presents-five-oclock-shado
 w-in-concert-1578657841\n\nThese six vocalists produce rock solid leads an
 d harmonies\, while exploring instrumental mimicry and creating unique tex
 tures that excite\, entertain and inspire audiences of all ages.  What&rsq
 uo\;s more\, these guys love what they do\, and their joy is contagious\, 
 as was evident in their nearly sold out We Care performance last May.  FOC
 S will perform to benefit Bridge House (tbhshelter.org) based in Plymouth\
 , NH.  The Bridge House believes in the worth and dignity of all individua
 ls and provides...
DTSTART;TZID=America/New_York:20200523T190000
DTEND;TZID=America/New_York:20200523T210000
END:VEVENT
END:VCALENDAR
