BEGIN:VCALENDAR
PRODID:-//eluceo/ical//2.0/EN
VERSION:2.0
CALSCALE:GREGORIAN
BEGIN:VEVENT
UID:90901284b97839a297ca1d8c82378262
DTSTAMP:20260423T210304Z
SUMMARY:We Care Presents:  Doo-Wop DeVille Benefit Concert
DESCRIPTION:Jewish Federation of New Hampshire\nCommunity Calendar\nhttps:/
 /jewishnh.org/community-calendar/we-care-presents-doo-wop-deville-benefit-
 concert-1564690033\n\n "Doo Wop” and “Do Good” All in one Night!  By
  purchasing a ticket for $27.50 you will enjoy great music\, food\, and dr
 ink while supporting Interlakes Community Caregivers\, a 501(c)3 nonprofit
  volunteer program that provides rides and other direct services free of c
 harge to assist Lakes Region residents in their daily lives.  For more inf
 ormation visit their website www.InterlakesCommunityCaregivers.org or foll
 ow them on Facebook.\n
DTSTART;TZID=America/New_York:20191026T190000
DTEND;TZID=America/New_York:20191026T210000
END:VEVENT
END:VCALENDAR
