BEGIN:VCALENDAR
PRODID:-//eluceo/ical//2.0/EN
VERSION:2.0
CALSCALE:GREGORIAN
BEGIN:VEVENT
UID:3300b6fc9e506c850c12983e8a7b990c
DTSTAMP:20260423T020158Z
SUMMARY:We Remember - Memorial Day Service
DESCRIPTION:Jewish Federation of New Hampshire\nCommunity Calendar\nhttps:/
 /jewishnh.org/community-calendar/we-remember-memorial-day-service\n\nHoste
 d by Temple Adath Yeshurun and Temple Israel\, the program will honor thos
 e veterans buried in the cemetery\, as well as all those who have served o
 ur country in military service. US flags will have been placed at the grav
 esites of the veterans interred in the cemetery. Please join us as we reme
 mber and honor those who have helped keep us free. While we hope you can j
 oin us in person the ZOOM link and instructions will be posted on the Temp
 le Adath Yeshurun and Temple Israel websites befo...
DTSTART;TZID=America/New_York:20230529T170000
DTEND;TZID=America/New_York:20230529T190000
END:VEVENT
END:VCALENDAR
