BEGIN:VCALENDAR
PRODID:-//eluceo/ical//2.0/EN
VERSION:2.0
CALSCALE:GREGORIAN
BEGIN:VEVENT
UID:d405d2213361369caea4fd048992afdb
DTSTAMP:20260422T065116Z
SUMMARY:Welcome Back Shabbat - Philip Porter Religious School
DESCRIPTION:Jewish Federation of New Hampshire\nCommunity Calendar\nhttps:/
 /jewishnh.org/community-calendar/welcome-back-shabbat---philip-porter-reli
 gious-school-1565714622\n\nThe Philip Porter Religious School\n\nInvites i
 ts students and their families to\n\nA Shabbat Morning Celebration\n\nShab
 bat Shoftim\n\nSeptember 7\, 2019\n\n9:30 a.m.\n\nfor\n\nLight Breakfast\n
 \nFollowed by\n\nInteractive Torah service\n\nand\n\nFamily Learning activ
 ity\n\nJoin to learn more about our learning program\n\nAll are welcome
DTSTART;TZID=America/New_York:20190907T093000
DTEND;TZID=America/New_York:20190907T123000
END:VEVENT
END:VCALENDAR
