BEGIN:VCALENDAR
PRODID:-//eluceo/ical//2.0/EN
VERSION:2.0
CALSCALE:GREGORIAN
BEGIN:VEVENT
UID:381622f8c5bab314df2e2c898b4ec729
DTSTAMP:20260424T035110Z
SUMMARY:What Do Different Faiths Teach About Death and Mourning?
DESCRIPTION:Jewish Federation of New Hampshire\nCommunity Calendar\nhttps:/
 /jewishnh.org/community-calendar/what-do-different-faiths-teach-about-deat
 h-and-mourning-1573230996\n\nA panel with religious leaders from Greater N
 ashua.\n\nLearn from Rabbi Jon and religious teachers from the Nashua area
  and Souhegan Valley Interfaith Councils about how our faith traditions ap
 proach death and mourning. What are some core beliefs? What are the major 
 practices? What should you know if you are a guest at a ritual or gather f
 rom a different religion?\n\nFree of charge and open to the public.
DTSTART;TZID=America/New_York:20191118T190000
DTEND;TZID=America/New_York:20191118T210000
END:VEVENT
END:VCALENDAR
