BEGIN:VCALENDAR
PRODID:-//eluceo/ical//2.0/EN
VERSION:2.0
CALSCALE:GREGORIAN
BEGIN:VEVENT
UID:4f6623b704ba02533aafc817a6d97cc8
DTSTAMP:20260423T050134Z
SUMMARY:What it’s really like in Israel & How you can help
DESCRIPTION:Jewish Federation of New Hampshire\nCommunity Calendar\nhttps:/
 /jewishnh.org/community-calendar/what-its-really-like-in-israel-how-you-ca
 n-help\n\nJewish Federation of New Hampshire welcomes our former Slicha Av
 ia Sagron via Zoom. Avia will speak about what's happening right now in Is
 rael\, answer questions and help explain the best ways we can help.\n\nFre
 e event. Registration required to receive Zoom information: https://bit.l
 y/ShlichaAvia.
DTSTART;TZID=America/New_York:20231015T160000
DTEND;TZID=America/New_York:20231015T173000
END:VEVENT
END:VCALENDAR
