BEGIN:VCALENDAR
PRODID:-//eluceo/ical//2.0/EN
VERSION:2.0
CALSCALE:GREGORIAN
BEGIN:VEVENT
UID:abe1c12fc0a09a10faa7c04b9362045c
DTSTAMP:20260423T033204Z
SUMMARY:When Words Fail\, Music Speaks
DESCRIPTION:Jewish Federation of New Hampshire\nCommunity Calendar\nhttps:/
 /jewishnh.org/community-calendar/when-words-fail-music-speaks-portsmouth\n
 \nWhen Words Fail\, Music Speaks\n\nA program of music by Jewish and Lithu
 anian composers\, as part of the 2018 Days of Remembrance.\n\nBorisas Trau
 bas\, Violinist (Lithuania)\nNoam Wolf\, Vocalist (Israel)\nElizabeth Boro
 wsky\, Pianist (USA)\n\nAdmission by donation.\n\n 
DTSTART;TZID=America/New_York:20180416T193000
DTEND;TZID=America/New_York:20180416T213000
END:VEVENT
END:VCALENDAR
