BEGIN:VCALENDAR
PRODID:-//eluceo/ical//2.0/EN
VERSION:2.0
CALSCALE:GREGORIAN
BEGIN:VEVENT
UID:8eef1ba755d04bd90bdba5d72c63b1bf
DTSTAMP:20260422T141542Z
SUMMARY:White Mountain Jewish Film Festival
DESCRIPTION:Jewish Federation of New Hampshire\nCommunity Calendar\nhttps:/
 /jewishnh.org/community-calendar/white-mountain-jewish-film-festival\n\nTh
 e film to be shown will be Fugitive Pieces\, an emotionally charged film a
 bout love\, loss\, and redemption\, is driven by radiant performances and 
 nuanced writing. It is based upon Ann Michaels’ bestselling novel of a w
 riter who cannot shake off the terrifying memories of his childhood during
  World War II. White Mountain Jewish Film Festival ticket information: Per
  Film $9 BHC Members\, $10 General Admission. Five Film Season Pass: $40 B
 HC Members\, $45 General Admission. To Order Season Passe...
DTSTART;TZID=America/New_York:20180719T180000
DTEND;TZID=America/New_York:20180719T200000
END:VEVENT
END:VCALENDAR
