BEGIN:VCALENDAR
PRODID:-//eluceo/ical//2.0/EN
VERSION:2.0
CALSCALE:GREGORIAN
BEGIN:VEVENT
UID:349203b084c8ed504d2f4a6fee1ecc84
DTSTAMP:20260423T114929Z
SUMMARY:White Mountain Jewish Film Festival - Armageddon Time
DESCRIPTION:Jewish Federation of New Hampshire\nCommunity Calendar\nhttps:/
 /jewishnh.org/community-calendar/white-mountain-jewish-film-festival-armag
 eddon-time\n\nThe 2023 White Mountain Jewish Film Festival returns to the 
 Colonial Theatre this summer for five more films focusing on the Jewish ex
 perience in America\, Israel\, and throughout the world. Filmgoers can aga
 in enjoy the magic of watching great theatrical presentations on the big s
 creen of Bethlehem's historic Colonial Theatre\, one of the oldest continu
 ously operating movie theatres in the country.\n\nAs always\, your ticket 
 includes our festival's famous patio parties beginning at 6PM with comp...
DTSTART;TZID=America/New_York:20230706T180000
DTEND;TZID=America/New_York:20230706T210000
END:VEVENT
END:VCALENDAR
