BEGIN:VCALENDAR
PRODID:-//eluceo/ical//2.0/EN
VERSION:2.0
CALSCALE:GREGORIAN
BEGIN:VEVENT
UID:9b08e1aff3dbf0a7242d8534b38715e9
DTSTAMP:20260423T114606Z
SUMMARY:White Mountain Jewish Film Festival - June Zero
DESCRIPTION:Jewish Federation of New Hampshire\nCommunity Calendar\nhttps:/
 /jewishnh.org/community-calendar/white-mountain-jewish-film-festival-june-
 zero\n\nThe 2023 White Mountain Jewish Film Festival returns to the Coloni
 al Theatre this summer for five more films focusing on the Jewish excperie
 nce in America\, Israel\, and throughout the world. Filmgoers can again en
 joy the magic of watching great thatrical presentations on the big screen 
 of Bethlehem's historic Colonial Theatre\, one of the oldest continuously 
 operating movie theatres in the country.\n\nAs always\, your ticket includ
 es our festival's famous patio parties beginning at 6PM with comp...
DTSTART;TZID=America/New_York:20230803T180000
DTEND;TZID=America/New_York:20230803T210000
END:VEVENT
END:VCALENDAR
