BEGIN:VCALENDAR
PRODID:-//eluceo/ical//2.0/EN
VERSION:2.0
CALSCALE:GREGORIAN
BEGIN:VEVENT
UID:d96f66c4944015ca87f70a3d90ecbabc
DTSTAMP:20260422T223214Z
SUMMARY:White Mountain Jewish Film Festival - Plan A
DESCRIPTION:Jewish Federation of New Hampshire\nCommunity Calendar\nhttps:/
 /jewishnh.org/community-calendar/white-mountain-jewish-film-festival-plan-
 a\n\nThe 2023 White Mountain Jewish Film Festival returns to the Colonial 
 Theatre this summer for five more films focusing on the Jewish excperience
  in America\, Israel\, and throughout the world. Filmgoers can again enjoy
  the magic of watching great thatrical presentations on the big screen of 
 Bethlehem's historic Colonial Theatre\, one of the oldest continuously ope
 rating movie theatres in the country.\n\nAs always\, your ticket includes 
 our festival's famous patio parties beginning at 6PM with comp...
DTSTART;TZID=America/New_York:20230720T180000
DTEND;TZID=America/New_York:20230720T210000
END:VEVENT
END:VCALENDAR
