BEGIN:VCALENDAR
PRODID:-//eluceo/ical//2.0/EN
VERSION:2.0
CALSCALE:GREGORIAN
BEGIN:VEVENT
UID:560c5107aee6d80df3f9f9388c28ce7d
DTSTAMP:20260422T161424Z
SUMMARY:White Mountain Jewish Film Festival presents: Closer to the Moon
DESCRIPTION:Jewish Federation of New Hampshire\nCommunity Calendar\nhttps:/
 /jewishnh.org/community-calendar/white-mountain-jewish-film-festival-prese
 nts-closer-to-the-moon\n\nWHITE MOUNTAIN JEWISH FILM FESTIVAL – 2022\n\n
 All Films events are as follows:\n\nThursdays: 7:00 PM   Colonial Theatr
 e\, 2050 Main St. Bethlehem\, NH\n\nAdmission: General Admission: $10-\nBH
 C\, JFNH\, & Colonial Members: $9\n\nAdmission includes:\n\n\n6:00 PM Pati
 o Social Hour – Complimentary Refreshments\n6:30 PM  Guest Speaker\n7:0
 0 PM  Film (Followed by Q & A with Guest Speaker)\n\n\nFilms and Guest Sp
 eakers:\n\nThursday\, August 18\, 2022\,  7:00 PM - Closer to the Moon: 
       ...
DTSTART;TZID=America/New_York:20220818T190000
DTEND;TZID=America/New_York:20220818T210000
END:VEVENT
END:VCALENDAR
