BEGIN:VCALENDAR
PRODID:-//eluceo/ical//2.0/EN
VERSION:2.0
CALSCALE:GREGORIAN
BEGIN:VEVENT
UID:f7ce5f48b9d9c323d79b105d04e6d4b5
DTSTAMP:20260422T221715Z
SUMMARY:White Mountain Jewish Film Festival presents: My German Friend
DESCRIPTION:Jewish Federation of New Hampshire\nCommunity Calendar\nhttps:/
 /jewishnh.org/community-calendar/white-mountain-jewish-film-festival-prese
 nts-my-german-friend\n\nWHITE MOUNTAIN JEWISH FILM FESTIVAL – 2022\n\nAl
 l Films events are as follows:\n\nThursdays: 7:00 PM   Colonial Theatre\
 , 2050 Main St. Bethlehem\, NH\n\nAdmission: General Admission: $10-\nBHC\
 , JFNH\, & Colonial Members: $9\n\nAdmission includes:\n\n\n6:00 PM Patio 
 Social Hour – Complimentary Refreshments\n6:30 PM  Guest Speaker\n7:00 
 PM  Film (Followed by Q & A with Guest Speaker)\n\n\nFilms and Guest Spea
 kers:\n\nThursday\, September 1\, 2022 - My German Friend:\n\nThe momentou
 s swee...
DTSTART;TZID=America/New_York:20220901T190000
DTEND;TZID=America/New_York:20220901T210000
END:VEVENT
END:VCALENDAR
