BEGIN:VCALENDAR
PRODID:-//eluceo/ical//2.0/EN
VERSION:2.0
CALSCALE:GREGORIAN
BEGIN:VEVENT
UID:93b238a7ad5abb4da08fe1465c4c955c
DTSTAMP:20260423T114641Z
SUMMARY:White Mountain Jewish Film Festival presents: Tiger Within
DESCRIPTION:Jewish Federation of New Hampshire\nCommunity Calendar\nhttps:/
 /jewishnh.org/community-calendar/white-mountain-jewish-film-festival-prese
 nts-tiger-within\n\nWHITE MOUNTAIN JEWISH FILM FESTIVAL – 2022\n\nAll Fi
 lms events are as follows:\n\nThursdays: 7:00 PM   Colonial Theatre\, 20
 50 Main St. Bethlehem\, NH\n\nAdmission: General Admission: $10-\nBHC\, JF
 NH\, & Colonial Members: $9\n\nAdmission includes:\n\n\n6:00 PM Patio Soci
 al Hour – Complimentary Refreshments\n6:30 PM  Guest Speaker\n7:00 PM 
  Film (Followed by Q & A with Guest Speaker)\n\n\nThursday\, August 4\, 20
 22\, 7:00 PM - Tiger Within:        \n\nA young punk who thinks she k
 now...
DTSTART;TZID=America/New_York:20220804T190000
DTEND;TZID=America/New_York:20220804T210000
END:VEVENT
END:VCALENDAR
