BEGIN:VCALENDAR
PRODID:-//eluceo/ical//2.0/EN
VERSION:2.0
CALSCALE:GREGORIAN
BEGIN:VEVENT
UID:ea0032469fa653a98afc98f40b63c1cd
DTSTAMP:20260423T044058Z
SUMMARY:Wine & Beer Tasting\, Silent Auction & More!
DESCRIPTION:Jewish Federation of New Hampshire\nCommunity Calendar\nhttps:/
 /jewishnh.org/community-calendar/wine--beer-tasting-silent-auction--more-1
 557142004\n\nCome sample international and American wines\, sip a variety 
 of local craft beers\, enjoy fine food by Amphora\, bid on exciting auctio
 n items and our bottle collection\, dance to the tunes of DJ Amy.  \n$30 p
 er person in advance\, $35 at the door.  To pre-register\, go to www.etzha
 yim.org/wine-tasting or call 432-0004.\n
DTSTART;TZID=America/New_York:20190518T190000
DTEND;TZID=America/New_York:20190518T230000
END:VEVENT
END:VCALENDAR
