BEGIN:VCALENDAR
PRODID:-//eluceo/ical//2.0/EN
VERSION:2.0
CALSCALE:GREGORIAN
BEGIN:VEVENT
UID:a7c87fa730c4246416f895dba2ec1ca0
DTSTAMP:20260423T164405Z
SUMMARY:Wine and Cheese Mometum Information Night
DESCRIPTION:Jewish Federation of New Hampshire\nCommunity Calendar\nhttps:/
 /jewishnh.org/community-calendar/wine-and-cheese-mometum-information-night
 \n\nHave you been considering applying for the Momentum Year Long Journey?
 \n\nJoin us for this informative evening to learn everything you need to k
 now about this amazing opportunity. Get your questions answered and meet o
 ther moms interested in the journey as well.\n\nPlease RSVP to Allyson Gue
 rtin by calling the JFNH office at 603-627-7679 or emailing allyson.guerti
 n@jewishnh.org
DTSTART;TZID=America/New_York:20200203T180000
DTEND;TZID=America/New_York:20200203T200000
END:VEVENT
END:VCALENDAR
