BEGIN:VCALENDAR
PRODID:-//eluceo/ical//2.0/EN
VERSION:2.0
CALSCALE:GREGORIAN
BEGIN:VEVENT
UID:a481d70cb3899fb16b14e907fc5cdf96
DTSTAMP:20260422T150124Z
SUMMARY:Winter Community Read - Author Discussion
DESCRIPTION:Jewish Federation of New Hampshire\nCommunity Calendar\nhttps:/
 /jewishnh.org/community-calendar/winter-community-read\n\nThe Jewish Feder
 ation of New Hampshire invites our New Hampshire Jewish Community to join
  us as we read the book Carrying My Father's Torch by Gail Weiss Gaspar. G
 ail is the sister of NH Jewish Community member Jeff Weiss of Nashua.\n\nJ
 FNH members who make a minimum doantion of $36  are invited to a free Zo
 om discussion with author Gail Weiss Gaspar. \n\nFor book details visit 
 https://www.amazon.com/dp/1735814202/ref=cm_sw_em_r_mt_dp_pxDKFbRM8RE0Z\n\
 nPre-registration is required
DTSTART;TZID=America/New_York:20210112T190000
DTEND;TZID=America/New_York:20210112T210000
END:VEVENT
END:VCALENDAR
