BEGIN:VCALENDAR
PRODID:-//eluceo/ical//2.0/EN
VERSION:2.0
CALSCALE:GREGORIAN
BEGIN:VEVENT
UID:ece0e044ee3f8b594389740e6e7405bd
DTSTAMP:20260422T082652Z
SUMMARY:Winter Wonderland  Service 8pm & Choir Exchange  TBJ Concord
DESCRIPTION:Jewish Federation of New Hampshire\nCommunity Calendar\nhttps:/
 /jewishnh.org/community-calendar/winter-wonderland--service-8pm--choir-exc
 hange--tbj-concord-1560686131\n\nWinter Wonderland Service at Temple Adath
  Yeshurun.\nTAY and TBJ Choirs will sing at TBJ in Concord.
DTSTART;TZID=America/New_York:20200207T200000
DTEND;TZID=America/New_York:20200207T220000
END:VEVENT
END:VCALENDAR
