BEGIN:VCALENDAR
PRODID:-//eluceo/ical//2.0/EN
VERSION:2.0
CALSCALE:GREGORIAN
BEGIN:VEVENT
UID:907858de94ecb25c7e4468a8b970fbad
DTSTAMP:20260424T233951Z
SUMMARY:Women's Shabbat Dinner
DESCRIPTION:Jewish Federation of New Hampshire\nCommunity Calendar\nhttps:/
 /jewishnh.org/community-calendar/womens-shabbat-dinner\n\nLife\, Ladies & 
 Laughter presents a Women’s Shabbat Dinner\n\nJoin us for a festive Wome
 n’s Shabbat at the JFNH office in Bedford\, NH! Mingle with other ladies
  from around the state. Catered pareve dinner. Bring a divine dessert to s
 hare!\n\nJanuary 19 | 6-9pm| $18/person Jewish Federation of New Hampshire
 \, Bedford\n\nRegistration required. Please register online\, scan the QR
  code on the flyer\, or call the JFNH office at 603-627-7679. Questions? E
 mail info@jewishnh.org.
DTSTART;TZID=America/New_York:20240119T180000
DTEND;TZID=America/New_York:20240119T210000
END:VEVENT
END:VCALENDAR
