BEGIN:VCALENDAR
PRODID:-//eluceo/ical//2.0/EN
VERSION:2.0
CALSCALE:GREGORIAN
BEGIN:VEVENT
UID:1f3f568882ce6686164d9f13002a94bc
DTSTAMP:20260423T091643Z
SUMMARY:Yedidim Build-a-Shabbat at TBA in Nashua
DESCRIPTION:Jewish Federation of New Hampshire\nCommunity Calendar\nhttps:/
 /jewishnh.org/community-calendar/yedidim-build-a-shabbat-1550855604\n\nYou
 r kids will love this creative monthly approach to celebrating Shabbat! Ea
 ch month\, join us for a Shabbat related project\, kid-approved dinner and
  short\, joyful\, song-filled\, kid-friendly Friday night service. Your ki
 ds will receive their own Build-a-Shabbat Workshop apron to use for the du
 ration of the workshop series. If your child attends all five workshops\, 
 they will earn a certificate of achievement and a special gift! Build memo
 ries with your child\, and enjoy using the special crafts...
DTSTART;TZID=America/New_York:20190308T164500
DTEND;TZID=America/New_York:20190308T180000
END:VEVENT
END:VCALENDAR
