BEGIN:VCALENDAR
PRODID:-//eluceo/ical//2.0/EN
VERSION:2.0
CALSCALE:GREGORIAN
BEGIN:VEVENT
UID:ed408a942dfc1010f1fce26e3d1a352d
DTSTAMP:20260423T132455Z
SUMMARY:Yedidim Dad's Night Out
DESCRIPTION:Jewish Federation of New Hampshire\nCommunity Calendar\nhttps:/
 /jewishnh.org/community-calendar/yedidim-dads-night-out-1552325444\n\nDads
 : take some time for yourself this month\, and enjoy the Bruins with other
  Yedidim dads! Hockey\, frosty beverages and adult conversation - sounds l
 ike a plan!\n\nYedidim Dad's Night Out takes place this month at Boston Bi
 lliard Club & Casino! Be there before the puck drops at 7:00 p.m. as the B
 ruins play Columbus.\n\nPlease register here: https://www.tbanashua.org/ev
 ent/yedidim-dads-night-out1.html
DTSTART;TZID=America/New_York:20190316T184500
DTEND;TZID=America/New_York:20190316T213000
END:VEVENT
END:VCALENDAR
