BEGIN:VCALENDAR
PRODID:-//eluceo/ical//2.0/EN
VERSION:2.0
CALSCALE:GREGORIAN
BEGIN:VEVENT
UID:fbfae72bc40df73eb1ceceeca40cc7ef
DTSTAMP:20260423T021841Z
SUMMARY:Yedidim Family Sunday School
DESCRIPTION:Jewish Federation of New Hampshire\nCommunity Calendar\nhttps:/
 /jewishnh.org/community-calendar/yedidim-family-sunday-school-1553097529\n
 \nJoin us for your child’s first Hebrew School experience at the Yedidim
  Family Sunday School! Aimed at kids 2-3 years old and their caregivers\, 
 this innovative monthly program is caregiver-facilitated with planning\, s
 upport and guidance from subject matter experts and certified teachers.
DTSTART;TZID=America/New_York:20190331T100000
DTEND;TZID=America/New_York:20190331T120000
END:VEVENT
END:VCALENDAR
