BEGIN:VCALENDAR
PRODID:-//eluceo/ical//2.0/EN
VERSION:2.0
CALSCALE:GREGORIAN
BEGIN:VEVENT
UID:92ba9a7da41aa2f7aaffe25812beb579
DTSTAMP:20260422T065517Z
SUMMARY:Yedidim Family Sunday School
DESCRIPTION:Jewish Federation of New Hampshire\nCommunity Calendar\nhttps:/
 /jewishnh.org/community-calendar/yedidim-family-sunday-school-1553876102\n
 \nJoin us for your child’s first Hebrew School experience at the Yedidim
  Family Sunday School!  Aimed at kids 2-3 years old and their caregivers\
 , this innovative monthly program is caregiver-facilitated with planning\,
  support and guidance from subject matter experts and certified teachers. 
  We will create a fun and engaging environment where students will learn 
 about Jewish holidays\, Hebrew language\, and Jewish values through age-ap
 propriate activities\, games and songs.\n\nRSVP is required....
DTSTART;TZID=America/New_York:20190407T100000
DTEND;TZID=America/New_York:20190407T120000
END:VEVENT
END:VCALENDAR
