BEGIN:VCALENDAR
PRODID:-//eluceo/ical//2.0/EN
VERSION:2.0
CALSCALE:GREGORIAN
BEGIN:VEVENT
UID:957ec1f40228ca2e38af7b821033ef87
DTSTAMP:20260423T203421Z
SUMMARY:Yedidim Mom's Night Out
DESCRIPTION:Jewish Federation of New Hampshire\nCommunity Calendar\nhttps:/
 /jewishnh.org/community-calendar/yedidim-moms-night-out-1553876324\n\nFoll
 owing on the heels of February's successful Martini Night Out\, we're goin
 g to try a new Italian restaurant in April! Join other moms for sophistica
 ted conversation\, dinner\, and fancy drinks at Portofino Italian Restaur
 ant in Merrimack. Check out their menu at https://www.portofinorestaurant
 nh.com/\n\n \n\nPlease RSVP to this event at https://www.tbanashua.org/e
 vent/yedidim-moms-night-out2.html
DTSTART;TZID=America/New_York:20190413T183000
DTEND;TZID=America/New_York:20190413T210000
END:VEVENT
END:VCALENDAR
