BEGIN:VCALENDAR
PRODID:-//eluceo/ical//2.0/EN
VERSION:2.0
CALSCALE:GREGORIAN
BEGIN:VEVENT
UID:cf5543a9efc7a261352c9ed1b4aee4d5
DTSTAMP:20260424T014940Z
SUMMARY:Yedidim Popup Potluck Havdalah
DESCRIPTION:Jewish Federation of New Hampshire\nCommunity Calendar\nhttps:/
 /jewishnh.org/community-calendar/yedidim-popup-potluck-havdalah-1546450387
 \n\nInterested in an easy\, low key way to celebrate the spirit of Shabbat
 ? Potluck Popup Havdalah delivers a complete service in a box\, containing
  everything you need to celebrate the departure of Shabbat. If you'd like 
 to host a Potluck Popup Havdalah in your home\, Yedidim families will brin
 g the kid-friendly dairy or pareve food and dessert\, and we'll all experi
 ence the gentle fellowship of saying goodbye to Shabbat.Location of the cu
 rrent Havdalah well be shared once registered.Registration re...
DTSTART;TZID=America/New_York:20190126T170000
DTEND;TZID=America/New_York:20190126T183000
END:VEVENT
END:VCALENDAR
