BEGIN:VCALENDAR
PRODID:-//eluceo/ical//2.0/EN
VERSION:2.0
CALSCALE:GREGORIAN
BEGIN:VEVENT
UID:9b91b93af3c0c726e321bf1b5062c044
DTSTAMP:20260422T132326Z
SUMMARY:Yedidim Popup Potluck Havdalah
DESCRIPTION:Jewish Federation of New Hampshire\nCommunity Calendar\nhttps:/
 /jewishnh.org/community-calendar/yedidim-popup-potluck-havdalah-1552065998
 \n\nInterested in an easy\, low key way to celebrate the spirit of Shabbat
 ? Potluck Popup Havdalah delivers a complete service in a box\, containing
  everything you need to celebrate the departure of Shabbat.\n\nIf you’d 
 like to host a Potluck Popup Havdalah in your home\, Yedidim families will
  bring the kid-friendly dairy or pareve food and dessert\, and we’ll all
  experience the gentle fellowship of saying goodbye to Shabbat.\n\nThere i
 s no charge\, but we ask that you RSVP at the link provided.
DTSTART;TZID=America/New_York:20190323T170000
DTEND;TZID=America/New_York:20190323T184500
END:VEVENT
END:VCALENDAR
