BEGIN:VCALENDAR
PRODID:-//eluceo/ical//2.0/EN
VERSION:2.0
CALSCALE:GREGORIAN
BEGIN:VEVENT
UID:f3705bd6933eaa28c668174dfddcf880
DTSTAMP:20260422T184039Z
SUMMARY:Yedidim Popup Potluck Havdalah
DESCRIPTION:Jewish Federation of New Hampshire\nCommunity Calendar\nhttps:/
 /jewishnh.org/community-calendar/yedidim-popup-potluck-havdalah-1581445345
 \n\nnterested in an easy\, low-key way to celebrate the spirit of Shabbat?
  Popup Potluck Havdalah is for you! All you need to do is bring the kid-
 friendly dairy or pareve dish\, and together we'll experience the gentle f
 ellowship of saying goodbye to Shabbat.If you are interested in attending\
 , please contact Jessie Mocle at yedidim@tbanashua.org. 
DTSTART;TZID=America/New_York:20200314T173000
DTEND;TZID=America/New_York:20200314T190000
END:VEVENT
END:VCALENDAR
