BEGIN:VCALENDAR
PRODID:-//eluceo/ical//2.0/EN
VERSION:2.0
CALSCALE:GREGORIAN
BEGIN:VEVENT
UID:b8f3bec8601cd931b7bcd1869e3ce9b2
DTSTAMP:20260424T025350Z
SUMMARY:Yedidim Potluck Popup Havdalah
DESCRIPTION:Jewish Federation of New Hampshire\nCommunity Calendar\nhttps:/
 /jewishnh.org/community-calendar/yedidim-potluck-popup-havdalah-1550690358
 \n\nInterested in an easy\, low key way to celebrate the spirit of Shabbat
 ? Potluck Popup Havdalah delivers a complete service in a box\, containing
  everything you need to celebrate the departure of Shabbat. If you’d lik
 e to host a Potluck Popup Havdalah in your home\, Yedidim families will br
 ing the kid-friendly dairy or pareve food and dessert\, and we’ll all ex
 perience the gentle fellowship of saying goodbye to Shabbat.
DTSTART;TZID=America/New_York:20190223T170000
DTEND;TZID=America/New_York:20190223T193000
END:VEVENT
END:VCALENDAR
