BEGIN:VCALENDAR
PRODID:-//eluceo/ical//2.0/EN
VERSION:2.0
CALSCALE:GREGORIAN
BEGIN:VEVENT
UID:9eba81c923cc4a02e17ed9699397dfad
DTSTAMP:20260424T043913Z
SUMMARY:Yedidim Summer Camp Planning Meeting
DESCRIPTION:Jewish Federation of New Hampshire\nCommunity Calendar\nhttps:/
 /jewishnh.org/community-calendar/yedidim-summer-camp-planning-meeting-1556
 556923\n\nAre your kids home this summer? Join us to plan a summer full of
  activities with a Jewish flavor! Together we can design and execute weekl
 y activities that will keep our kids happy\, learning\, and growing.\n\nAr
 ts and crafts\, sports\, field-trips\, cooking\, outdoor water fun - anyth
 ing you can think up\, we can make a reality! Let the Yedidim Director Jes
 sica Mocle know if you can participate!
DTSTART;TZID=America/New_York:20190508T183000
DTEND;TZID=America/New_York:20190508T193000
END:VEVENT
END:VCALENDAR
