BEGIN:VCALENDAR
PRODID:-//eluceo/ical//2.0/EN
VERSION:2.0
CALSCALE:GREGORIAN
BEGIN:VEVENT
UID:c0576ab3ef2a61dfce77f64a216d4655
DTSTAMP:20260422T095426Z
SUMMARY:Yoga for a Cause to benefit the Camp Tevya Sustainability Fund
DESCRIPTION:Jewish Federation of New Hampshire\nCommunity Calendar\nhttps:/
 /jewishnh.org/community-calendar/yoga-for-a-cause-to-benefit-the-camp-tevy
 a-sustainability-fund-1594314417\n\nArielle will lead you through a 60 min
 ute gentle flow yoga class to benefit the Camp Tevya Sustainability Fund. 
 Suggested donation of $18. Generous donors will match your support\, addin
 g 50% to the value of your registration and donation!\nWhere: Your home! S
 imply join us on Zoom. Details will be emailed upon registration.\nWhen: S
 at.\, July 11th at 9:30 AM &/or Sun.\, Aug. 2nd at 7:30 PM\nRegister for o
 ne or both sessions from the same link:...
DTSTART;TZID=America/New_York:20200711T093000
DTEND;TZID=America/New_York:20200711T103000
END:VEVENT
END:VCALENDAR
