BEGIN:VCALENDAR
PRODID:-//eluceo/ical//2.0/EN
VERSION:2.0
CALSCALE:GREGORIAN
BEGIN:VEVENT
UID:fbc4d20cd0f71c760677b31509bb1d9c
DTSTAMP:20260423T234518Z
SUMMARY:Yoga for a Cause to benefit the Camp Tevya Sustainability Fund
DESCRIPTION:Jewish Federation of New Hampshire\nCommunity Calendar\nhttps:/
 /jewishnh.org/community-calendar/yoga-for-a-cause-to-benefit-the-camp-tevy
 a-sustainability-fund-1596229968\n\nArielle will lead you through a 60 min
 ute gentle flow yoga class to benefit the Camp Tevya Sustainability Fund. 
 No yoga experience required. Suggested donation of $18. Generous donors wi
 ll match your support\, adding 50% to the value of your registration and d
 onation!
DTSTART;TZID=America/New_York:20200802T193000
DTEND;TZID=America/New_York:20200802T203000
END:VEVENT
END:VCALENDAR
