BEGIN:VCALENDAR
PRODID:-//eluceo/ical//2.0/EN
VERSION:2.0
CALSCALE:GREGORIAN
BEGIN:VEVENT
UID:1aa6ba55e6c95361ffe754ec3173ec4d
DTSTAMP:20260425T020347Z
SUMMARY:Yom Haatzmaut
DESCRIPTION:Jewish Federation of New Hampshire\nCommunity Calendar\nhttps:/
 /jewishnh.org/community-calendar/yom-haatzmaut\n\nYom Haatzmaut (Israel’
 s Independence Day)
DTSTART;TZID=America/New_York:20230425T193000
DTEND;TZID=America/New_York:20230426T193000
END:VEVENT
END:VCALENDAR
