BEGIN:VCALENDAR
PRODID:-//eluceo/ical//2.0/EN
VERSION:2.0
CALSCALE:GREGORIAN
BEGIN:VEVENT
UID:4db15db2ad963159f56b1c5048879727
DTSTAMP:20260426T002856Z
SUMMARY:Yom HaAtzma’ut
DESCRIPTION:Jewish Federation of New Hampshire\nCommunity Calendar\nhttps:/
 /jewishnh.org/community-calendar/yom-haatzmaut2026\n\nYom HaAtzma’ut for
  Hebrew Year 5786 begins at sundown on Tuesday\, 21 April 2026 and ends at
  nightfall on Wednesday\, 22 April 2026.\n\nIsraeli Independence Day. Comm
 emorates the declaration of independence of Israel in 1948. Although Yom H
 aAtzma’ut is normally observed on the 5th of Iyyar\, it may be moved ear
 lier or postponed if observance of the holiday (or Yom HaZikaron\, which a
 lways precedes it) would conflict with Shabbat.
DTSTART;TZID=America/New_York:20260421T000000
DTEND;TZID=America/New_York:20260422T235959
END:VEVENT
END:VCALENDAR
