BEGIN:VCALENDAR
PRODID:-//eluceo/ical//2.0/EN
VERSION:2.0
CALSCALE:GREGORIAN
BEGIN:VEVENT
UID:e9346f707592f0ceb53ceb20c305aada
DTSTAMP:20260422T173654Z
SUMMARY:Yom Hashoa Rememberance
DESCRIPTION:Jewish Federation of New Hampshire\nCommunity Calendar\nhttps:/
 /jewishnh.org/community-calendar/yom-hashoa-rememberance\n\nFeaturing a co
 ncert by the Lakes Region Symphony String Quartet at 7PM. No charge!
DTSTART;TZID=America/New_York:20190501T190000
DTEND;TZID=America/New_York:20190501T210000
END:VEVENT
END:VCALENDAR
