BEGIN:VCALENDAR
PRODID:-//eluceo/ical//2.0/EN
VERSION:2.0
CALSCALE:GREGORIAN
BEGIN:VEVENT
UID:dc8aef1aefe8ea52fcb7bb4b628c2fab
DTSTAMP:20260422T140056Z
SUMMARY:Yom HaShoah services
DESCRIPTION:Jewish Federation of New Hampshire\nCommunity Calendar\nhttps:/
 /jewishnh.org/community-calendar/yom-hashoa-services\n\nJFNH\, in conjunct
 ion with the Holocaust Survivor Remembrance Committee\, is partnering with
  Etz Hayim Synagogue in Derry for a Yom HaShoah service.\n\nJoin us on the
  eve of Yom HaShoah for a community service including original poems by Ju
 dy Felsen\, Kaddish and the memorial sirens in Israel.
DTSTART;TZID=America/New_York:20230417T190000
DTEND;TZID=America/New_York:20230417T200000
END:VEVENT
END:VCALENDAR
