BEGIN:VCALENDAR
PRODID:-//eluceo/ical//2.0/EN
VERSION:2.0
CALSCALE:GREGORIAN
BEGIN:VEVENT
UID:09c3622080c8379b94155d38ccdbd9f0
DTSTAMP:20260423T042054Z
SUMMARY:Yom HaShoah
DESCRIPTION:Jewish Federation of New Hampshire\nCommunity Calendar\nhttps:/
 /jewishnh.org/community-calendar/yom-hashoah\n\n.
DTSTART;TZID=America/New_York:20180411T000000
DTEND;TZID=America/New_York:20180411T000000
END:VEVENT
END:VCALENDAR
