BEGIN:VCALENDAR
PRODID:-//eluceo/ical//2.0/EN
VERSION:2.0
CALSCALE:GREGORIAN
BEGIN:VEVENT
UID:cbc3966c16b9fbacee9d66ab998e457d
DTSTAMP:20260425T211215Z
SUMMARY:Yom HaShoah
DESCRIPTION:Jewish Federation of New Hampshire\nCommunity Calendar\nhttps:/
 /jewishnh.org/community-calendar/yom-hashoah-2023\n\nYom HaShoah is the Je
 wish memorial day for the Shoah\, commemorated by Jewish communities world
 wide.
DTSTART;TZID=America/New_York:20230417T192500
DTEND;TZID=America/New_York:20230418T192500
END:VEVENT
END:VCALENDAR
