BEGIN:VCALENDAR
PRODID:-//eluceo/ical//2.0/EN
VERSION:2.0
CALSCALE:GREGORIAN
BEGIN:VEVENT
UID:01dc49710db8f59ad2cff8384e92b5a4
DTSTAMP:20260422T172116Z
SUMMARY:Yom Hashoah Ceremony at New Hampshire Holocaust Memorial
DESCRIPTION:Jewish Federation of New Hampshire\nCommunity Calendar\nhttps:/
 /jewishnh.org/community-calendar/yom-hashoah-ceremony-at-new-hampshire-hol
 ocaust-memorial-1556116968\n\nShaw’s Led by Rabbi Jon Spira-Savett and F
 red Teeboom\, Founder\, NH Holocaust Memorial \n\nOpen to the Public
DTSTART;TZID=America/New_York:20190502T161500
DTEND;TZID=America/New_York:20190502T164500
END:VEVENT
END:VCALENDAR
