BEGIN:VCALENDAR
PRODID:-//eluceo/ical//2.0/EN
VERSION:2.0
CALSCALE:GREGORIAN
BEGIN:VEVENT
UID:d633d75e5948e4e86f073db59ebbe2c2
DTSTAMP:20260422T135112Z
SUMMARY:Yom Hashoah Commemoration
DESCRIPTION:Jewish Federation of New Hampshire\nCommunity Calendar\nhttps:/
 /jewishnh.org/community-calendar/yom-hashoah-commemoration-1583855220\n\nH
 olocaust Remembrance Day will be observed at Temple Israel in Portsmouth w
 ith a memorial service led by Rabbi Ira Korinow and members of the Portsmo
 uth Ministerium. Guest speakers will include graduates from the Holocaust 
 Legacy Fellows Program\, who will speak of their experiences visiting Ausc
 hwitz-Birkenau\, Majdanek\, and Treblinka. Following the remembrance servi
 ce in the sanctuary\, coffee and refreshments will follow in the Levenson 
 Social Hall\, where a Holocaust-related exhibit will be a...
DTSTART;TZID=America/New_York:20200419T150000
DTEND;TZID=America/New_York:20200419T163000
END:VEVENT
END:VCALENDAR
